BEGIN:VCALENDAR
VERSION:2.0
PRODID:-//The Holding Company - ECPv6.15.17//NONSGML v1.0//EN
CALSCALE:GREGORIAN
METHOD:PUBLISH
X-ORIGINAL-URL:https://theholdingcompanyob.com
X-WR-CALDESC:Events for The Holding Company
REFRESH-INTERVAL;VALUE=DURATION:PT1H
X-Robots-Tag:noindex
X-PUBLISHED-TTL:PT1H
BEGIN:VTIMEZONE
TZID:America/Tijuana
BEGIN:DAYLIGHT
TZOFFSETFROM:-0800
TZOFFSETTO:-0700
TZNAME:PDT
DTSTART:20240310T100000
END:DAYLIGHT
BEGIN:STANDARD
TZOFFSETFROM:-0700
TZOFFSETTO:-0800
TZNAME:PST
DTSTART:20241103T090000
END:STANDARD
BEGIN:DAYLIGHT
TZOFFSETFROM:-0800
TZOFFSETTO:-0700
TZNAME:PDT
DTSTART:20250309T100000
END:DAYLIGHT
BEGIN:STANDARD
TZOFFSETFROM:-0700
TZOFFSETTO:-0800
TZNAME:PST
DTSTART:20251102T090000
END:STANDARD
BEGIN:DAYLIGHT
TZOFFSETFROM:-0800
TZOFFSETTO:-0700
TZNAME:PDT
DTSTART:20260308T100000
END:DAYLIGHT
BEGIN:STANDARD
TZOFFSETFROM:-0700
TZOFFSETTO:-0800
TZNAME:PST
DTSTART:20261101T090000
END:STANDARD
BEGIN:DAYLIGHT
TZOFFSETFROM:-0800
TZOFFSETTO:-0700
TZNAME:PDT
DTSTART:20270314T100000
END:DAYLIGHT
BEGIN:STANDARD
TZOFFSETFROM:-0700
TZOFFSETTO:-0800
TZNAME:PST
DTSTART:20271107T090000
END:STANDARD
END:VTIMEZONE
BEGIN:VTIMEZONE
TZID:America/Los_Angeles
BEGIN:DAYLIGHT
TZOFFSETFROM:-0800
TZOFFSETTO:-0700
TZNAME:PDT
DTSTART:20240310T100000
END:DAYLIGHT
BEGIN:STANDARD
TZOFFSETFROM:-0700
TZOFFSETTO:-0800
TZNAME:PST
DTSTART:20241103T090000
END:STANDARD
BEGIN:DAYLIGHT
TZOFFSETFROM:-0800
TZOFFSETTO:-0700
TZNAME:PDT
DTSTART:20250309T100000
END:DAYLIGHT
BEGIN:STANDARD
TZOFFSETFROM:-0700
TZOFFSETTO:-0800
TZNAME:PST
DTSTART:20251102T090000
END:STANDARD
BEGIN:DAYLIGHT
TZOFFSETFROM:-0800
TZOFFSETTO:-0700
TZNAME:PDT
DTSTART:20260308T100000
END:DAYLIGHT
BEGIN:STANDARD
TZOFFSETFROM:-0700
TZOFFSETTO:-0800
TZNAME:PST
DTSTART:20261101T090000
END:STANDARD
END:VTIMEZONE
BEGIN:VEVENT
DTSTART;TZID=America/Tijuana:20260117T193000
DTEND;TZID=America/Tijuana:20260117T233000
DTSTAMP:20260422T044608
CREATED:20251230T224838Z
LAST-MODIFIED:20260107T204717Z
UID:10002032-1768678200-1768692600@theholdingcompanyob.com
SUMMARY:Imaginarium: Petey USA\, play the human\, Shane Mauss (comedy set)\, Salo Panto and special guest dj Noisemaker dub
DESCRIPTION:Get ready for an unforgettabe night as Petey USA and friends transport you to another dimension!\n\n\n\nPetey USA live in San Diego!\n21+ with valid ID \nDoors — 7:30 PM \nLineup & Schedule \n8:00–8:25 PM | Shane Mauss \nA nationally touring stand-up comedian known for his sharp\, vulnerable\, and deeply human humor. Shane has appeared on Conan\, Comedy Central\, and The Joe Rogan Experience\, blending big laughs with big questions about consciousness\, psychedelics\, and the absurdity of being alive. \n8:45–9:25 PM | Salo Panto (Portland) \nSince 2015\, Salo Panto has been exploring and bending every corner of the rock genre. Rooted in psychedelia and known for a stage presence that will blow your hair back—often described as “a sight to behold”—their technical skill and original hooks pay homage to the legends of rock while transforming the genre into something entirely new. \n9:45–10:25 PM | Play the Human (San Diego) \nBlending garage psychedelia with danceable rhythms\, emotive synth textures\, and soulful vocals\, Play the Human delivers an immersive\, mystical live experience that’s hypnotic\, physical\, and emotionally resonant. \n🌟 10:35–11:35 PM | Petey USA \nPetey USA is known for sharp storytelling\, biting wit\, and emotionally honest songwriting. His live shows balance humor\, vulnerability\, and catharsis\, creating a rare sense of connection that’s high-energy\, disarming\, and deeply human. \n11:50 PM – 1:00 AM | Noisemaker \nA late-night special guest closes out the evening with a set designed to carry the energy deep into the night.
URL:https://theholdingcompanyob.com/show/imaginarium-play-the-human-shane-mauss-comedy-set-salo-panto-and-tba/
LOCATION:The Holding Company – 1st Floor\, 5046 Newport Ave\, San Diego\, CA\, 92107\, United States
CATEGORIES:Comedy,Misc
ATTACH;FMTTYPE=image/png:https://theholdingcompanyob.com/wp-content/uploads/2025/12/Screenshot-2026-01-07-at-12.43.55-PM.png
END:VEVENT
BEGIN:VEVENT
DTSTART;TZID=America/Tijuana:20251228T200000
DTEND;TZID=America/Tijuana:20251228T220000
DTSTAMP:20260422T044608
CREATED:20251219T234332Z
LAST-MODIFIED:20251219T234332Z
UID:10002025-1766952000-1766959200@theholdingcompanyob.com
SUMMARY:Missed Christmas
DESCRIPTION:MISSED CHRISTMAS is a variety show featuring standout acts from local shows this season: burlesque\, comedy\, music\, storytelling\, and more. \nSo many holiday shows\, so many talented San Diego performers. Provocative Expressions scouted them and curated a special community showcase for you! \nCome see these hits again\, or catch what you missed… because Christmas magic deserves an encore!
URL:https://theholdingcompanyob.com/show/missed-christmas/
LOCATION:The Holding Company – 1st Floor\, 5046 Newport Ave\, San Diego\, CA\, 92107\, United States
CATEGORIES:Comedy
ATTACH;FMTTYPE=image/png:https://theholdingcompanyob.com/wp-content/uploads/2025/12/Flyer-Missed-Christmas-Show-1080-x-1080-px-scaled.png
ORGANIZER;CN="kristi drake":MAILTO:drake.kristi@gmail.com
END:VEVENT
BEGIN:VEVENT
DTSTART;TZID=America/Tijuana:20251115T160000
DTEND;TZID=America/Tijuana:20251115T180000
DTSTAMP:20260422T044608
CREATED:20251022T235432Z
LAST-MODIFIED:20251114T200705Z
UID:10001840-1763222400-1763229600@theholdingcompanyob.com
SUMMARY:The Floor is Yours
DESCRIPTION:What a Doll Productions and Provocative Expressions Collaboration \nStep into the world of The Floor Is Yours\, a one-of-a-kind women-led comedy show with special guest performances of song and dance\, directed by Miss Holly and produced by an OB local\, Kristi Drake. Featuring San Diego’s very own rising stars\, this special afternoon will be one to remember celebrating humor\, confidence\, and the power of taking up space — because when the spotlight hits\, the floor is yours. HA HA PURRR! \nEarly Bird (til 11/3) $25 \nRegular Price $35 \nDay of $40 \n 
URL:https://theholdingcompanyob.com/show/ha-ha-purrr/
LOCATION:The Holding Company – 1st Floor\, 5046 Newport Ave\, San Diego\, CA\, 92107\, United States
CATEGORIES:Comedy
ATTACH;FMTTYPE=image/jpeg:https://theholdingcompanyob.com/wp-content/uploads/2025/10/Copy-of-Buy-your-tickets-now.png.jpeg
ORGANIZER;CN="kristi drake":MAILTO:drake.kristi@gmail.com
END:VEVENT
BEGIN:VEVENT
DTSTART;TZID=America/Los_Angeles:20250130T193000
DTEND;TZID=America/Los_Angeles:20250130T193000
DTSTAMP:20260422T044608
CREATED:20250122T210131Z
LAST-MODIFIED:20250122T210131Z
UID:10000408-1738265400-1738265400@theholdingcompanyob.com
SUMMARY:The Bucket List (Comedy Show) $10-18
DESCRIPTION:The Bucket List is a unique comedy show that lets the audience members joke ideas come to life on stage. Jokes Not Bombs is bringing you this killer show at The Holding Comedy in Ocean Beach on January 30th. Before the show audience members are given small pieces of paper to write an idea/topic/joke idea down and they’re all thrown into a bucket. During the show after doing a normal set comedians will pull a piece of paper out and riff off it. These shows are a blast and can get as chaotic as you’d imagine. \nThe Bucket List is a unique comedy show that lets the audience members joke ideas come to life on stage. Jokes Not Bombs is bringing you this killer show at The Holding Comedy in Ocean Beach on January 30th. Before the show audience members are given small pieces of paper to write an idea/topic/joke idea down and they’re all thrown into a bucket. During the show after doing a normal set comedians will pull a piece of paper out and riff off it. These shows are a blast and can get as chaotic as you’d imagine. \nThe Holding Company has a comedy club quality show coming to Ocean Beach only theres plenty of street parking and no drinik minimums! Doors open at 7:30\, the show starts at 8pm! General admission is $10\, VIP is $18 where you get first chance at seating including tables up front. \nOur headliner Ike Gazaryan is fresh off his Kill Tony debut where he had a hilarious set/interview and Tony tossed him a joke book before leaving the stage (which only happens if you have a great set). He also performs all over the world doing standup in English and Russian. The show is also featuring Ryan Shores who you might’ve seen on Hulu/headlines across the country. Hosting the show is a San Diego favorite and OB/PL native Alan Henderson who you also might’ve seen on Killer Shark Live that was a great white shark documentary on the BBC. These shows always have some special guests and are a blast\, get your tickets now before it sells out! \nGet Tickets
URL:https://theholdingcompanyob.com/show/the-bucket-list-comedy-show-10-18/
LOCATION:CA
CATEGORIES:Comedy
ATTACH;FMTTYPE=:
END:VEVENT
END:VCALENDAR