BEGIN:VCALENDAR
VERSION:2.0
PRODID:-//The Holding Company - ECPv6.15.17//NONSGML v1.0//EN
CALSCALE:GREGORIAN
METHOD:PUBLISH
X-WR-CALNAME:The Holding Company
X-ORIGINAL-URL:https://theholdingcompanyob.com
X-WR-CALDESC:Events for The Holding Company
REFRESH-INTERVAL;VALUE=DURATION:PT1H
X-Robots-Tag:noindex
X-PUBLISHED-TTL:PT1H
BEGIN:VTIMEZONE
TZID:America/Tijuana
BEGIN:DAYLIGHT
TZOFFSETFROM:-0800
TZOFFSETTO:-0700
TZNAME:PDT
DTSTART:20240310T100000
END:DAYLIGHT
BEGIN:STANDARD
TZOFFSETFROM:-0700
TZOFFSETTO:-0800
TZNAME:PST
DTSTART:20241103T090000
END:STANDARD
BEGIN:DAYLIGHT
TZOFFSETFROM:-0800
TZOFFSETTO:-0700
TZNAME:PDT
DTSTART:20250309T100000
END:DAYLIGHT
BEGIN:STANDARD
TZOFFSETFROM:-0700
TZOFFSETTO:-0800
TZNAME:PST
DTSTART:20251102T090000
END:STANDARD
BEGIN:DAYLIGHT
TZOFFSETFROM:-0800
TZOFFSETTO:-0700
TZNAME:PDT
DTSTART:20260308T100000
END:DAYLIGHT
BEGIN:STANDARD
TZOFFSETFROM:-0700
TZOFFSETTO:-0800
TZNAME:PST
DTSTART:20261101T090000
END:STANDARD
END:VTIMEZONE
BEGIN:VEVENT
DTSTART;TZID=America/Tijuana:20250926T170000
DTEND;TZID=America/Tijuana:20250926T233000
DTSTAMP:20260424T031945
CREATED:20250603T053401Z
LAST-MODIFIED:20250925T030830Z
UID:10001321-1758906000-1758929400@theholdingcompanyob.com
SUMMARY:Death or Glory Pre-Show: Conservative Military Image\, Hoods\, Usual Suspects\, Legions\, Traxx
DESCRIPTION:$25 general admission in advance \n$30 day of show
URL:https://theholdingcompanyob.com/show/death-or-glory-pre-show-conservative-military-image-hoods-usual-suspects-legions-traxx/
LOCATION:The Holding Company – 1st Floor\, 5046 Newport Ave\, San Diego\, CA\, 92107\, United States
CATEGORIES:Punk
ATTACH;FMTTYPE=image/jpeg:https://theholdingcompanyob.com/wp-content/uploads/2025/06/cmi11x17-copy-scaled.jpeg
ORGANIZER;CN="deathorglorysd@gmail.com":MAILTO:deathorglorysd@gmail.com
END:VEVENT
BEGIN:VEVENT
DTSTART;TZID=America/Tijuana:20250925T190000
DTEND;TZID=America/Tijuana:20250925T230000
DTSTAMP:20260424T031945
CREATED:20250526T183224Z
LAST-MODIFIED:20250920T195416Z
UID:10001310-1758826800-1758841200@theholdingcompanyob.com
SUMMARY:PREAMP PRESENTS: NAHKO AND MEDICINE FOR THE PEOPLE
DESCRIPTION:For the first time ever\, Nahko is bringing the powerful songs from his 2020 album Take Your Power Back\nto the stage\, live and in full spirit! Originally released during the stillness of the pandemic\, this\nlong-awaited tour is a celebration of resilience\, rebirth\, and reclaiming your voice. Nahko has crafted an\nall-new show\, filled with heart\, healing\, and high vibes. Expect deep cuts\, fan favorites\, and the kind of\nsoul-stirring experience only a Nahko show can deliver. Come feel the energy. Come sing your truth.\nCome take your power back! \nNOTE THERE IS NOTHING EXTRA WITH THE DIFFERENT TIER’S THE PRICING GOES UP BASED ON AVAILABILITY AND SALES. IF THERE ARE STILL GA TIX OF LOWER TIERS AVAILABLE PLEASE BUY THE CHEAPER TIX. TIX WILL ONLY BE ACCEPTED IF THEY COME FROM OUR SITE WE DON’T ACCEPT THIRD PARTY (STUBHUB ETC)
URL:https://theholdingcompanyob.com/show/preamp-presents-nahko-and-medicine-for-the-people/
LOCATION:The Holding Company – 1st Floor\, 5046 Newport Ave\, San Diego\, CA\, 92107\, United States
ATTACH;FMTTYPE=image/jpeg:https://theholdingcompanyob.com/wp-content/uploads/2025/05/SQ.jpg
END:VEVENT
BEGIN:VEVENT
DTSTART;TZID=America/Tijuana:20250924T193000
DTEND;TZID=America/Tijuana:20250924T233000
DTSTAMP:20260424T031945
CREATED:20250820T222301Z
LAST-MODIFIED:20250918T022549Z
UID:10001678-1758742200-1758756600@theholdingcompanyob.com
SUMMARY:Stone Variety Show
DESCRIPTION:WhateverSloat DixonRugged SpitterMark The SharkWhirled Piece7:30 doors\, 8pm-11pm show$5 21 and older
URL:https://theholdingcompanyob.com/show/stone-variety-show/
LOCATION:The Holding Company – 1st Floor\, 5046 Newport Ave\, San Diego\, CA\, 92107\, United States
CATEGORIES:Live Music
ATTACH;FMTTYPE=image/png:https://theholdingcompanyob.com/wp-content/uploads/2025/08/9-24-IG.png
END:VEVENT
BEGIN:VEVENT
DTSTART;TZID=America/Tijuana:20250924T193000
DTEND;TZID=America/Tijuana:20250924T210000
DTSTAMP:20260424T031945
CREATED:20250827T230918Z
LAST-MODIFIED:20250917T163627Z
UID:10001695-1758742200-1758747600@theholdingcompanyob.com
SUMMARY:Trivia at The Holding Company
DESCRIPTION:Prizes for first and second Place Teams
URL:https://theholdingcompanyob.com/show/trivia-at-the-holding-company/2025-09-24/
LOCATION:The Holding Company – 2nd Floor\, 5046 Newport Ave\, San Diego\, CA\, 92107\, United States
CATEGORIES:Trivia
ATTACH;FMTTYPE=image/jpeg:https://theholdingcompanyob.com/wp-content/uploads/2025/07/8pm-trivia-image-scaled.jpg
ORGANIZER;CN="Red Hairing":MAILTO:Dustybennett123@gmail.com
END:VEVENT
BEGIN:VEVENT
DTSTART;TZID=America/Tijuana:20250924T160000
DTEND;TZID=America/Tijuana:20250924T200000
DTSTAMP:20260424T031945
CREATED:20250827T231236Z
LAST-MODIFIED:20251007T185859Z
UID:10001751-1758729600-1758744000@theholdingcompanyob.com
SUMMARY:Video Game Night at The Holding Company
DESCRIPTION:Video Game night at The Holding Company
URL:https://theholdingcompanyob.com/show/video-game-night-at-the-holding-company/2025-09-24/
LOCATION:The Holding Company – 1st Floor\, 5046 Newport Ave\, San Diego\, CA\, 92107\, United States
CATEGORIES:Games
ATTACH;FMTTYPE=image/png:https://theholdingcompanyob.com/wp-content/uploads/2025/08/NEW-THC-Video-Game-Night.png
ORGANIZER;CN="Red Hairing":MAILTO:Dustybennett123@gmail.com
END:VEVENT
BEGIN:VEVENT
DTSTART;TZID=America/Tijuana:20250920T210000
DTEND;TZID=America/Tijuana:20250921T020000
DTSTAMP:20260424T031945
CREATED:20250827T230252Z
LAST-MODIFIED:20250827T230252Z
UID:10001690-1758402000-1758420000@theholdingcompanyob.com
SUMMARY:DJ Ms. Mo
DESCRIPTION:
URL:https://theholdingcompanyob.com/show/dj-ms-mo-12/
LOCATION:The Holding Company – 2nd Floor\, 5046 Newport Ave\, San Diego\, CA\, 92107\, United States
ATTACH;FMTTYPE=image/png:https://theholdingcompanyob.com/wp-content/uploads/2025/07/ms-mo-logo-multi-scaled.png
ORGANIZER;CN="Red Hairing":MAILTO:Dustybennett123@gmail.com
END:VEVENT
BEGIN:VEVENT
DTSTART;TZID=America/Tijuana:20250920T193000
DTEND;TZID=America/Tijuana:20250920T233000
DTSTAMP:20260424T031945
CREATED:20250625T114024Z
LAST-MODIFIED:20250806T192440Z
UID:10001373-1758396600-1758411000@theholdingcompanyob.com
SUMMARY:QUEL BORDEL! + Dive Bar Saints
DESCRIPTION:
URL:https://theholdingcompanyob.com/show/quel-bordel-dive-bar-saints/
LOCATION:The Holding Company – 1st Floor\, 5046 Newport Ave\, San Diego\, CA\, 92107\, United States
CATEGORIES:Live Music,Misc,Punk,Rock
ATTACH;FMTTYPE=image/png:https://theholdingcompanyob.com/wp-content/uploads/2025/06/9_20-IG.png
END:VEVENT
BEGIN:VEVENT
DTSTART;TZID=America/Tijuana:20250919T193000
DTEND;TZID=America/Tijuana:20250919T233000
DTSTAMP:20260424T031945
CREATED:20250727T061133Z
LAST-MODIFIED:20250827T232907Z
UID:10001664-1758310200-1758324600@theholdingcompanyob.com
SUMMARY:The Resinators\, Sandollar\, JAMM
DESCRIPTION:$10 general admission in advance \n$15 at doors
URL:https://theholdingcompanyob.com/show/resinators-sandollar-jamm/
LOCATION:The Holding Company – 1st Floor\, 5046 Newport Ave\, San Diego\, CA\, 92107\, United States
CATEGORIES:Reggae
ATTACH;FMTTYPE=image/jpeg:https://theholdingcompanyob.com/wp-content/uploads/2025/07/resinators-1.jpg
END:VEVENT
BEGIN:VEVENT
DTSTART;TZID=America/Tijuana:20250918T193000
DTEND;TZID=America/Tijuana:20250918T233000
DTSTAMP:20260424T031945
CREATED:20250725T213912Z
LAST-MODIFIED:20250914T225219Z
UID:10001659-1758223800-1758238200@theholdingcompanyob.com
SUMMARY:Carolina Liar
DESCRIPTION:  \nw/ Kings of Karma \nTIX $18 advance $25 at the doors!
URL:https://theholdingcompanyob.com/show/carolina-liar/
LOCATION:CA
CATEGORIES:Indie
ATTACH;FMTTYPE=image/png:https://theholdingcompanyob.com/wp-content/uploads/2025/07/9_18-11-x-17-in.png
ORGANIZER;CN="rob@universalattractions.com":MAILTO:rob@universalattractions.com
END:VEVENT
BEGIN:VEVENT
DTSTART;TZID=America/Tijuana:20250917T193000
DTEND;TZID=America/Tijuana:20250917T230000
DTSTAMP:20260424T031945
CREATED:20250624T025503Z
LAST-MODIFIED:20250909T154542Z
UID:10001364-1758137400-1758150000@theholdingcompanyob.com
SUMMARY:YOUNG S.H.O. & PRICE
DESCRIPTION:Tix $15 adv \n$20 at the door
URL:https://theholdingcompanyob.com/show/young-s-h-o-price/
LOCATION:The Holding Company – 1st Floor\, 5046 Newport Ave\, San Diego\, CA\, 92107\, United States
CATEGORIES:Hip Hop
ATTACH;FMTTYPE=image/jpeg:https://theholdingcompanyob.com/wp-content/uploads/2025/06/IMG_3254-scaled.jpg
END:VEVENT
BEGIN:VEVENT
DTSTART;TZID=America/Tijuana:20250917T193000
DTEND;TZID=America/Tijuana:20250917T210000
DTSTAMP:20260424T031945
CREATED:20250827T230918Z
LAST-MODIFIED:20250917T163627Z
UID:10001694-1758137400-1758142800@theholdingcompanyob.com
SUMMARY:Trivia at The Holding Company
DESCRIPTION:Prizes for first and second Place Teams
URL:https://theholdingcompanyob.com/show/trivia-at-the-holding-company/2025-09-17/
LOCATION:The Holding Company – 2nd Floor\, 5046 Newport Ave\, San Diego\, CA\, 92107\, United States
CATEGORIES:Trivia
ATTACH;FMTTYPE=image/jpeg:https://theholdingcompanyob.com/wp-content/uploads/2025/07/8pm-trivia-image-scaled.jpg
ORGANIZER;CN="Red Hairing":MAILTO:Dustybennett123@gmail.com
END:VEVENT
BEGIN:VEVENT
DTSTART;TZID=America/Tijuana:20250917T160000
DTEND;TZID=America/Tijuana:20250917T200000
DTSTAMP:20260424T031945
CREATED:20250827T231236Z
LAST-MODIFIED:20251007T185859Z
UID:10001750-1758124800-1758139200@theholdingcompanyob.com
SUMMARY:Video Game Night at The Holding Company
DESCRIPTION:Video Game night at The Holding Company
URL:https://theholdingcompanyob.com/show/video-game-night-at-the-holding-company/2025-09-17/
LOCATION:The Holding Company – 1st Floor\, 5046 Newport Ave\, San Diego\, CA\, 92107\, United States
CATEGORIES:Games
ATTACH;FMTTYPE=image/png:https://theholdingcompanyob.com/wp-content/uploads/2025/08/NEW-THC-Video-Game-Night.png
ORGANIZER;CN="Red Hairing":MAILTO:Dustybennett123@gmail.com
END:VEVENT
BEGIN:VEVENT
DTSTART;TZID=America/Tijuana:20250914T193000
DTEND;TZID=America/Tijuana:20250914T193000
DTSTAMP:20260424T031945
CREATED:20250323T154801Z
LAST-MODIFIED:20250817T232512Z
UID:10000525-1757878200-1757878200@theholdingcompanyob.com
SUMMARY:Slim Thug Live #TapSD
DESCRIPTION:Sat Sep 14th 2025 | Doors 7:30pm | Tickets $30 \nArtistaudition.com presents and for booking travis@artistauditions.com 6194003050
URL:https://theholdingcompanyob.com/show/slim-thug-live-tapsd/
LOCATION:The Holding Company – 1st Floor\, 5046 Newport Ave\, San Diego\, CA\, 92107\, United States
CATEGORIES:Hip Hop
ATTACH;FMTTYPE=image/jpeg:https://theholdingcompanyob.com/wp-content/uploads/2025/02/TheHoldingCompanyCalendar-prods-19U-full-1736380273-uDcLxs.tmp_.jpg
END:VEVENT
BEGIN:VEVENT
DTSTART;TZID=America/Tijuana:20250914T140000
DTEND;TZID=America/Tijuana:20250914T140000
DTSTAMP:20260424T031945
CREATED:20250323T154758Z
LAST-MODIFIED:20250817T233037Z
UID:10000524-1757858400-1757858400@theholdingcompanyob.com
SUMMARY:Keak Da Sneak live #TAPSD
DESCRIPTION:Sun Sept 14th 2025 | Doors 2:00pm \nTapSD Slim Thug x Keak Da Sneak – 7th Annual #TourArtitstPlacement \nBuy Tickets
URL:https://theholdingcompanyob.com/show/keak-da-sneak-live-tapsd/
LOCATION:The Holding Company – 1st Floor\, 5046 Newport Ave\, San Diego\, CA\, 92107\, United States
CATEGORIES:Hip Hop
ATTACH;FMTTYPE=image/jpeg:https://theholdingcompanyob.com/wp-content/uploads/2025/02/TheHoldingCompanyCalendar-prods-1AU-full-1738723919-hlTiMM.tmp_.jpg
END:VEVENT
BEGIN:VEVENT
DTSTART;TZID=America/Tijuana:20250913T193000
DTEND;TZID=America/Tijuana:20250913T233000
DTSTAMP:20260424T031945
CREATED:20250621T043825Z
LAST-MODIFIED:20250729T065823Z
UID:10001337-1757791800-1757806200@theholdingcompanyob.com
SUMMARY:Joey Harkum Duo
DESCRIPTION:For his entire life Joey Harkum has been strumming a guitar and after a decade of touring as the lead singer and songwriter of Baltimore-based band Pasadena\, he released his debut solo album\, Love and Labor\, to critical acclaim in 2016. Along with a relentless touring schedule Joey has most recently been working on his 4th studio album The Art of Revenge which released March 1st 2024. The album saw a cross country tour to support the release in March & April of 2024. \nKnown for his deep and poignant lyrics telling stories of joy\, love\, loss and sadness\, Joey brings the human experience to life through his relentless tour schedule that culminated in the release of Live at Buffalo Iron Works in 2018. 2020 brought new challenges but Joey responded with writing and recording new music and released his album Storyboard in March of 2021. Immediately following the release of Storyboard\, he started work on his follow up album Salt and Tar which was released in spring 2022. Catch him on tour now or online at joeyharkummusic.com. \nTIX $18 general admission in advance $23 at the door \nLINKS: \nwww.joeyharkum.com \nwww.facebook.com/JoeyHarkum/ \nwww.instagram.com/joeyharkum/ \nwww.youtube.com/user/joeyharkummusic \ntwitter.com/joeyharkum
URL:https://theholdingcompanyob.com/show/joey-harkum-duo/
LOCATION:The Holding Company – 1st Floor\, 5046 Newport Ave\, San Diego\, CA\, 92107\, United States
CATEGORIES:Reggae
ATTACH;FMTTYPE=image/png:https://theholdingcompanyob.com/wp-content/uploads/2025/06/2025-09-13_Joey-Harkum_4x5-1.png
ORGANIZER;CN="reggaetuesdaze@theholdingcompanyob.com":MAILTO:reggaetuesdaze@theholdingcompanyob.com
END:VEVENT
BEGIN:VEVENT
DTSTART;TZID=America/Tijuana:20250912T210000
DTEND;TZID=America/Tijuana:20250913T020000
DTSTAMP:20260424T031945
CREATED:20250827T230155Z
LAST-MODIFIED:20250827T230155Z
UID:10001689-1757710800-1757728800@theholdingcompanyob.com
SUMMARY:DJ Byrd
DESCRIPTION:
URL:https://theholdingcompanyob.com/show/dj-byrd-7/
LOCATION:The Holding Company – 2nd Floor\, 5046 Newport Ave\, San Diego\, CA\, 92107\, United States
CATEGORIES:DJ
ATTACH;FMTTYPE=image/png:https://theholdingcompanyob.com/wp-content/uploads/2025/06/dj-byrd-.png
ORGANIZER;CN="Red Hairing":MAILTO:Dustybennett123@gmail.com
END:VEVENT
BEGIN:VEVENT
DTSTART;TZID=America/Tijuana:20250912T193000
DTEND;TZID=America/Tijuana:20250912T233000
DTSTAMP:20260424T031945
CREATED:20250625T113549Z
LAST-MODIFIED:20250910T192759Z
UID:10001372-1757705400-1757719800@theholdingcompanyob.com
SUMMARY:Jimmy's Buffet
DESCRIPTION:Welcome to the world’s biggest celebration of the music & vibes of Jimmy Buffett! \nParrot Heads & Land Lovers alike will flock to hear all the hits from this amazing band\, as they dance the night away.  Let the Caribbean rhythms\, Hawaiian beats\, and margarita cocktails wash over you as you soak in the beachy fun. The music comes alive from our charming showman Chris Maddox\, who has been featured on CBS\, Ellen\, & NBC. Indoors or out\, night or day\, you can’t find a more entertaining performance than Jimmy’s Buffet. And crowd participation is a hallmark of every show… while the Buffet just keeps serving up the fun! \nAlso appearing: The Tourmaliners\n\n\n\nA dynamic Surf Guitar Band from San Diego CA. Winner of “Best Local Recording” 2025 and “Best Rock Album” at the 2023 San Diego Music Awards and Pipeline Instrumental Reviews’ (UK) 2023 “Album of the Year.”  The Tourmaliners blend the raw instrumental guitar sounds of Dick Dale\, Link Wray and The Ventures mixed with fun dance-able tiki vibrations and spy gyrations… all while watching a cool Spaghetti Western from outer space.
URL:https://theholdingcompanyob.com/show/jimmys-buffet/
LOCATION:The Holding Company – 1st Floor\, 5046 Newport Ave\, San Diego\, CA\, 92107\, United States
CATEGORIES:Cover/Tribute
ATTACH;FMTTYPE=image/png:https://theholdingcompanyob.com/wp-content/uploads/2025/06/yacht.png
END:VEVENT
BEGIN:VEVENT
DTSTART;TZID=America/Tijuana:20250911T193000
DTEND;TZID=America/Tijuana:20250911T230000
DTSTAMP:20260424T031945
CREATED:20250820T210322Z
LAST-MODIFIED:20250825T224123Z
UID:10001677-1757619000-1757631600@theholdingcompanyob.com
SUMMARY:Fight Naked\, Snail Fight
DESCRIPTION:
URL:https://theholdingcompanyob.com/show/fight-naked-snail-fight/
LOCATION:The Holding Company – 1st Floor\, 5046 Newport Ave\, San Diego\, CA\, 92107\, United States
CATEGORIES:Indie,Live Music
ATTACH;FMTTYPE=image/png:https://theholdingcompanyob.com/wp-content/uploads/2025/08/9_11-IG-.png
END:VEVENT
BEGIN:VEVENT
DTSTART;TZID=America/Tijuana:20250910T193000
DTEND;TZID=America/Tijuana:20250910T230000
DTSTAMP:20260424T031945
CREATED:20250804T235300Z
LAST-MODIFIED:20250805T000833Z
UID:10001669-1757532600-1757545200@theholdingcompanyob.com
SUMMARY:Aftermarket: Art Community Fundraiser
DESCRIPTION:B2B sets by \nPorky B2B Nikthrine \nMystique B2B Ivy Nyx \nMr. Kay b2b Miniskrt
URL:https://theholdingcompanyob.com/show/aftermarket-art-community-fundraiser/
LOCATION:The Holding Company – 1st Floor\, 5046 Newport Ave\, San Diego\, CA\, 92107\, United States
CATEGORIES:DJ
ATTACH;FMTTYPE=image/jpeg:https://theholdingcompanyob.com/wp-content/uploads/2025/08/910-.jpeg
END:VEVENT
BEGIN:VEVENT
DTSTART;TZID=America/Tijuana:20250910T193000
DTEND;TZID=America/Tijuana:20250910T210000
DTSTAMP:20260424T031945
CREATED:20250827T230918Z
LAST-MODIFIED:20250917T163627Z
UID:10001693-1757532600-1757538000@theholdingcompanyob.com
SUMMARY:Trivia at The Holding Company
DESCRIPTION:Prizes for first and second Place Teams
URL:https://theholdingcompanyob.com/show/trivia-at-the-holding-company/2025-09-10/
LOCATION:The Holding Company – 2nd Floor\, 5046 Newport Ave\, San Diego\, CA\, 92107\, United States
CATEGORIES:Trivia
ATTACH;FMTTYPE=image/jpeg:https://theholdingcompanyob.com/wp-content/uploads/2025/07/8pm-trivia-image-scaled.jpg
ORGANIZER;CN="Red Hairing":MAILTO:Dustybennett123@gmail.com
END:VEVENT
BEGIN:VEVENT
DTSTART;TZID=America/Tijuana:20250910T160000
DTEND;TZID=America/Tijuana:20250910T200000
DTSTAMP:20260424T031945
CREATED:20250827T231236Z
LAST-MODIFIED:20251007T185859Z
UID:10001749-1757520000-1757534400@theholdingcompanyob.com
SUMMARY:Video Game Night at The Holding Company
DESCRIPTION:Video Game night at The Holding Company
URL:https://theholdingcompanyob.com/show/video-game-night-at-the-holding-company/2025-09-10/
LOCATION:The Holding Company – 1st Floor\, 5046 Newport Ave\, San Diego\, CA\, 92107\, United States
CATEGORIES:Games
ATTACH;FMTTYPE=image/png:https://theholdingcompanyob.com/wp-content/uploads/2025/08/NEW-THC-Video-Game-Night.png
ORGANIZER;CN="Red Hairing":MAILTO:Dustybennett123@gmail.com
END:VEVENT
BEGIN:VEVENT
DTSTART;TZID=America/Tijuana:20250907T133000
DTEND;TZID=America/Tijuana:20250907T210000
DTSTAMP:20260424T031945
CREATED:20250807T232635Z
LAST-MODIFIED:20250817T225035Z
UID:10001671-1757251800-1757278800@theholdingcompanyob.com
SUMMARY:My Town fest - matinee after party: Angry Samoans\, Change Today\, War Fever\, Since We Were Kids  +more TBA
DESCRIPTION:My Town fest – matinee after party\nAngry Samoans\nChange Today (Joe wood playing songs from his 10 years with TSOL)\nWar Fever\nSince We Were Kids\n+more TBA
URL:https://theholdingcompanyob.com/show/my-town-fest-matinee-after-party-angry-samoans-change-today-war-fever-since-we-were-kids-more-tba/
LOCATION:The Holding Company – 1st Floor\, 5046 Newport Ave\, San Diego\, CA\, 92107\, United States
CATEGORIES:Punk
ATTACH;FMTTYPE=image/jpeg:https://theholdingcompanyob.com/wp-content/uploads/2025/08/IMG_0246.jpeg
ORGANIZER;CN="zakprescott.lgp@gmail.com":MAILTO:zakprescott.lgp@gmail.com
END:VEVENT
BEGIN:VEVENT
DTSTART;TZID=America/Tijuana:20250906T210000
DTEND;TZID=America/Tijuana:20250907T020000
DTSTAMP:20260424T031945
CREATED:20250827T230033Z
LAST-MODIFIED:20250827T230033Z
UID:10001688-1757192400-1757210400@theholdingcompanyob.com
SUMMARY:DJ Ms. Mo
DESCRIPTION:
URL:https://theholdingcompanyob.com/show/dj-ms-mo-11/
LOCATION:CA
CATEGORIES:DJ
ATTACH;FMTTYPE=image/png:https://theholdingcompanyob.com/wp-content/uploads/2025/06/ms-mo-logo-multi.png
ORGANIZER;CN="Red Hairing":MAILTO:Dustybennett123@gmail.com
END:VEVENT
BEGIN:VEVENT
DTSTART;TZID=America/Tijuana:20250906T140000
DTEND;TZID=America/Tijuana:20250906T233000
DTSTAMP:20260424T031945
CREATED:20250530T025703Z
LAST-MODIFIED:20250628T032451Z
UID:10001316-1757167200-1757201400@theholdingcompanyob.com
SUMMARY:My Town Fest Day Two: Batallion of Saints
DESCRIPTION:celebrating 45 years of slow death \nPresale $20\, $25 at the door\nDoors at 2pm.
URL:https://theholdingcompanyob.com/show/my-town-fest-batalian-of-saints/
LOCATION:The Holding Company – 1st Floor\, 5046 Newport Ave\, San Diego\, CA\, 92107\, United States
CATEGORIES:Punk
ATTACH;FMTTYPE=image/jpeg:https://theholdingcompanyob.com/wp-content/uploads/2025/05/batt-of-saints-my-town-annoucement-copy.jpg
ORGANIZER;CN="zakprescott.lgp@gmail.com":MAILTO:zakprescott.lgp@gmail.com
END:VEVENT
BEGIN:VEVENT
DTSTART;TZID=America/Tijuana:20250905T210000
DTEND;TZID=America/Tijuana:20250906T020000
DTSTAMP:20260424T031945
CREATED:20250827T225926Z
LAST-MODIFIED:20250827T225926Z
UID:10001687-1757106000-1757124000@theholdingcompanyob.com
SUMMARY:DJ Lya
DESCRIPTION:
URL:https://theholdingcompanyob.com/show/dj-lya-4/
LOCATION:The Holding Company – 2nd Floor\, 5046 Newport Ave\, San Diego\, CA\, 92107\, United States
CATEGORIES:DJ
ATTACH;FMTTYPE=image/jpeg:https://theholdingcompanyob.com/wp-content/uploads/2025/08/dj-lya.jpg
END:VEVENT
BEGIN:VEVENT
DTSTART;TZID=America/Tijuana:20250905T170000
DTEND;TZID=America/Tijuana:20250906T000000
DTSTAMP:20260424T031945
CREATED:20250530T030010Z
LAST-MODIFIED:20250628T032352Z
UID:10001317-1757091600-1757116800@theholdingcompanyob.com
SUMMARY:My Town Fest Day One: Victim
DESCRIPTION:Tix $20 general admission in advance\, \nTIX $25 at the door \nDoors at 5pm
URL:https://theholdingcompanyob.com/show/my-town-fest-day-one-victim/
LOCATION:The Holding Company – 1st Floor\, 5046 Newport Ave\, San Diego\, CA\, 92107\, United States
CATEGORIES:Punk
ATTACH;FMTTYPE=image/jpeg:https://theholdingcompanyob.com/wp-content/uploads/2025/05/victim-my-town-annoucement-copy.jpg
ORGANIZER;CN="zakprescott.lgp@gmail.com":MAILTO:zakprescott.lgp@gmail.com
END:VEVENT
BEGIN:VEVENT
DTSTART;TZID=America/Tijuana:20250904T193000
DTEND;TZID=America/Tijuana:20250904T230000
DTSTAMP:20260424T031945
CREATED:20250820T205901Z
LAST-MODIFIED:20250902T010439Z
UID:10001676-1757014200-1757026800@theholdingcompanyob.com
SUMMARY:Michael Gabriel Presents
DESCRIPTION:Yung guero\nC13\nSouthbay Nino\nSoulspittaz \nDj Raymond T/ Host \nSpecial guest\nJayofelony \nPart of proceeds going to cold.sweater
URL:https://theholdingcompanyob.com/show/mike-g-presents/
LOCATION:The Holding Company – 1st Floor\, 5046 Newport Ave\, San Diego\, CA\, 92107\, United States
CATEGORIES:Hip Hop
ATTACH;FMTTYPE=image/jpeg:https://theholdingcompanyob.com/wp-content/uploads/2025/08/image000000-9.jpg
END:VEVENT
BEGIN:VEVENT
DTSTART;TZID=America/Tijuana:20250903T193000
DTEND;TZID=America/Tijuana:20250903T233000
DTSTAMP:20260424T031945
CREATED:20250625T112006Z
LAST-MODIFIED:20250826T051650Z
UID:10001371-1756927800-1756942200@theholdingcompanyob.com
SUMMARY:Slawdog Showcasing: Cam + Dillon\, Nick Gray\, Groovy since 94\, SLAW
DESCRIPTION:Cam + Dillon\, Nick Gray\, Groovy since 94\, SLAW \nNO COVER!
URL:https://theholdingcompanyob.com/show/slawdog-showcasing-2/
LOCATION:The Holding Company – 1st Floor\, 5046 Newport Ave\, San Diego\, CA\, 92107\, United States
CATEGORIES:Hip Hop
ATTACH;FMTTYPE=image/png:https://theholdingcompanyob.com/wp-content/uploads/2025/06/image000001.png
END:VEVENT
BEGIN:VEVENT
DTSTART;TZID=America/Tijuana:20250903T193000
DTEND;TZID=America/Tijuana:20250903T210000
DTSTAMP:20260424T031945
CREATED:20250827T230918Z
LAST-MODIFIED:20250917T163627Z
UID:10001692-1756927800-1756933200@theholdingcompanyob.com
SUMMARY:Trivia at The Holding Company
DESCRIPTION:Prizes for first and second Place Teams
URL:https://theholdingcompanyob.com/show/trivia-at-the-holding-company/2025-09-03/
LOCATION:The Holding Company – 2nd Floor\, 5046 Newport Ave\, San Diego\, CA\, 92107\, United States
CATEGORIES:Trivia
ATTACH;FMTTYPE=image/jpeg:https://theholdingcompanyob.com/wp-content/uploads/2025/07/8pm-trivia-image-scaled.jpg
ORGANIZER;CN="Red Hairing":MAILTO:Dustybennett123@gmail.com
END:VEVENT
BEGIN:VEVENT
DTSTART;TZID=America/Tijuana:20250903T160000
DTEND;TZID=America/Tijuana:20250903T200000
DTSTAMP:20260424T031945
CREATED:20250827T231236Z
LAST-MODIFIED:20251007T185859Z
UID:10001748-1756915200-1756929600@theholdingcompanyob.com
SUMMARY:Video Game Night at The Holding Company
DESCRIPTION:Video Game night at The Holding Company
URL:https://theholdingcompanyob.com/show/video-game-night-at-the-holding-company/2025-09-03/
LOCATION:The Holding Company – 1st Floor\, 5046 Newport Ave\, San Diego\, CA\, 92107\, United States
CATEGORIES:Games
ATTACH;FMTTYPE=image/png:https://theholdingcompanyob.com/wp-content/uploads/2025/08/NEW-THC-Video-Game-Night.png
ORGANIZER;CN="Red Hairing":MAILTO:Dustybennett123@gmail.com
END:VEVENT
END:VCALENDAR