BEGIN:VCALENDAR
VERSION:2.0
PRODID:-//The Holding Company - ECPv6.15.17//NONSGML v1.0//EN
CALSCALE:GREGORIAN
METHOD:PUBLISH
X-WR-CALNAME:The Holding Company
X-ORIGINAL-URL:https://theholdingcompanyob.com
X-WR-CALDESC:Events for The Holding Company
REFRESH-INTERVAL;VALUE=DURATION:PT1H
X-Robots-Tag:noindex
X-PUBLISHED-TTL:PT1H
BEGIN:VTIMEZONE
TZID:America/Tijuana
BEGIN:DAYLIGHT
TZOFFSETFROM:-0800
TZOFFSETTO:-0700
TZNAME:PDT
DTSTART:20240310T100000
END:DAYLIGHT
BEGIN:STANDARD
TZOFFSETFROM:-0700
TZOFFSETTO:-0800
TZNAME:PST
DTSTART:20241103T090000
END:STANDARD
BEGIN:DAYLIGHT
TZOFFSETFROM:-0800
TZOFFSETTO:-0700
TZNAME:PDT
DTSTART:20250309T100000
END:DAYLIGHT
BEGIN:STANDARD
TZOFFSETFROM:-0700
TZOFFSETTO:-0800
TZNAME:PST
DTSTART:20251102T090000
END:STANDARD
BEGIN:DAYLIGHT
TZOFFSETFROM:-0800
TZOFFSETTO:-0700
TZNAME:PDT
DTSTART:20260308T100000
END:DAYLIGHT
BEGIN:STANDARD
TZOFFSETFROM:-0700
TZOFFSETTO:-0800
TZNAME:PST
DTSTART:20261101T090000
END:STANDARD
END:VTIMEZONE
BEGIN:VEVENT
DTSTART;TZID=America/Tijuana:20250404T193000
DTEND;TZID=America/Tijuana:20250404T193000
DTSTAMP:20260424T055618
CREATED:20250323T154641Z
LAST-MODIFIED:20250323T154641Z
UID:10000504-1743795000-1743795000@theholdingcompanyob.com
SUMMARY:Keller Williams
DESCRIPTION:Fri Apr 4th 2025 | Doors 7:30pm | Tickets $30-37 \nVirginian Keller Williams released his first album in 1994\, FREEK\, and has since given each of his albums a single-syllable title: BUZZ\, SPUN\, BREATHE\, LOOP\, LAUGH\, HOME\, DANCE\, STAGE\, GRASS\, DREAM\, TWELVE\, LIVE\, ODD\, THIEF\, KIDS\, BASS\, PICK\, FUNK\, VAPE\, SYNC\, RAW\, SANS\, ADD\, SPEED\, CELL\, DROLL\, and now DEER. Each title serves as a concise summation of the concept guiding each project. \nKeller’s albums reflect his pursuit to create music that sounds like nothing else. Un-beholden to conventionalism\, he seamlessly crosses genre boundaries. The end product is music that encompasses rock\, jazz\, funk\, and bluegrass\, always keeping the audience on their feet. Keller built his reputation initially on his engaging live performances\, no two of which are ever alike. \nFor most of his career\, he has performed solo. His stage shows are rooted around Keller singing his compositions and choice cover songs\, while accompanying himself on acoustic guitar\, bass\, guitar synthesizer\, and drum samples—a technique called live phrase sampling or “looping.” The end result often leans toward a hybrid of alternative folk and groovy electronica\, a genre Keller jokingly calls “acoustic dance music” or “ADM.” \nKeller’s constant evolution has led to numerous band projects as well\, including Keller & The Keels\, Grateful Grass\, KWahtro\, Keller and the Travelin’ McCourys\, Grateful Gospel\, More Than A Little\, and most recently\, DeadPettyKellerGrass. You can even catch him from time to time going back to his troubadour roots with his “Shut the Folk Up and Listen” series. \nKeller can be found playing clubs and festivals with these projects and his tried-and-true solo looping show\, always changing things up and keeping moving. \nTickets\nAdvance $30\nDay of Show $37
URL:https://theholdingcompanyob.com/show/keller-williams/
LOCATION:The Holding Company – 1st Floor\, 5046 Newport Ave\, San Diego\, CA\, 92107\, United States
CATEGORIES:Jam Band
ATTACH;FMTTYPE=image/jpeg:https://theholdingcompanyob.com/wp-content/uploads/2025/02/TheHoldingCompanyCalendar-prods-18F-full-1733249004-x2hLsn.tmp_.jpg
END:VEVENT
BEGIN:VEVENT
DTSTART;TZID=America/Tijuana:20250403T190000
DTEND;TZID=America/Tijuana:20250403T190000
DTSTAMP:20260424T055618
CREATED:20250323T154639Z
LAST-MODIFIED:20250323T154639Z
UID:10000550-1743706800-1743706800@theholdingcompanyob.com
SUMMARY:Ocean Bass: Nyquist\, Subb Spaced
DESCRIPTION:Thur Apr 3rd 2025 | Doors 7:00 pm | Tickets $5 \nw/ dom Dixon\, micknack\, groovy since 94\, mur-low \nTickets:\nAll Tickets $5
URL:https://theholdingcompanyob.com/show/ocean-bass-nyquist-subb-spaced/
LOCATION:The Holding Company – 1st Floor\, 5046 Newport Ave\, San Diego\, CA\, 92107\, United States
CATEGORIES:DJ
ATTACH;FMTTYPE=image/jpeg:https://theholdingcompanyob.com/wp-content/uploads/2025/03/TheHoldingCompanyCalendar-prods-1C7-full-1741732632-vk67hh.tmp_.jpg
END:VEVENT
BEGIN:VEVENT
DTSTART;TZID=America/Tijuana:20250402T210000
DTEND;TZID=America/Tijuana:20250403T010000
DTSTAMP:20260424T055618
CREATED:20250330T024027Z
LAST-MODIFIED:20250330T031031Z
UID:10000553-1743627600-1743642000@theholdingcompanyob.com
SUMMARY:Bass O'Clock Featuring: Xakti\, Suset Arcade\, Acacia\, Malicious
DESCRIPTION:doors at 9\nXakti\, malicious\, sunset arcade\, acacia
URL:https://theholdingcompanyob.com/show/bass-oclock-featuring-xakti-suset-arcade-acacia-malicious/
LOCATION:The Holding Company – 1st Floor\, 5046 Newport Ave\, San Diego\, CA\, 92107\, United States
CATEGORIES:DJ
ATTACH;FMTTYPE=image/png:https://theholdingcompanyob.com/wp-content/uploads/2025/03/erika-4-2.png
ORGANIZER;CN="Jake":MAILTO:mannequinvanityrecords@gmail.com
END:VEVENT
BEGIN:VEVENT
DTSTART;TZID=America/Tijuana:20250330T190000
DTEND;TZID=America/Tijuana:20250330T190000
DTSTAMP:20260424T055618
CREATED:20250323T154637Z
LAST-MODIFIED:20250323T154637Z
UID:10000541-1743361200-1743361200@theholdingcompanyob.com
SUMMARY:SlawDog Bday Show!
DESCRIPTION:Sun Mar 30th 2025 | Doors 7:00pm | Tickets $5 \nD4M B2B SlawDawg\, slickspace\, lowesipha\, Trippy Jesus\, Ari and The Rod\, Mick Nack(1 DJ)
URL:https://theholdingcompanyob.com/show/slawdog-bday-show/
LOCATION:The Holding Company – 1st Floor\, 5046 Newport Ave\, San Diego\, CA\, 92107\, United States
CATEGORIES:Hip Hop
ATTACH;FMTTYPE=image/jpeg:https://theholdingcompanyob.com/wp-content/uploads/2025/03/TheHoldingCompanyCalendar-prods-1C1-full-1741556192-KcW9rQ.tmp_.jpg
END:VEVENT
BEGIN:VEVENT
DTSTART;TZID=America/Tijuana:20250329T210000
DTEND;TZID=America/Tijuana:20250329T210000
DTSTAMP:20260424T055618
CREATED:20250323T154634Z
LAST-MODIFIED:20250323T154634Z
UID:10000360-1743282000-1743282000@theholdingcompanyob.com
SUMMARY:DJ Brando
DESCRIPTION:Sat Mar 29th 2025 | Upstairs at 9pm | No Cover before 9pm
URL:https://theholdingcompanyob.com/show/dj-brando/
LOCATION:The Holding Company – 2nd Floor\, 5046 Newport Ave\, San Diego\, CA\, 92107\, United States
CATEGORIES:DJ
ATTACH;FMTTYPE=image/jpeg:https://theholdingcompanyob.com/wp-content/uploads/2025/02/TheHoldingCompany-prods-default-full-1621473174-Sl8BG9.tmp_.jpg
END:VEVENT
BEGIN:VEVENT
DTSTART;TZID=America/Tijuana:20250329T193000
DTEND;TZID=America/Tijuana:20250329T235900
DTSTAMP:20260424T055618
CREATED:20250323T154632Z
LAST-MODIFIED:20250330T024216Z
UID:10000503-1743276600-1743292740@theholdingcompanyob.com
SUMMARY:Up The Irons\, Woke Up Dead
DESCRIPTION:Sat Mar 29th 2025 | Doors 7:30pm | Tickets $5-15 \nSome of the best tributes around! \nTickets\nTier 1 – $5 (first 100 tickets)\nTier 2 – $10 (second 200 tickets)\nTier 3 – $15 (last 100 tickets)
URL:https://theholdingcompanyob.com/show/up-the-irons-woke-up-dead/
LOCATION:The Holding Company – 1st Floor\, 5046 Newport Ave\, San Diego\, CA\, 92107\, United States
CATEGORIES:Cover/Tribute
ATTACH;FMTTYPE=image/jpeg:https://theholdingcompanyob.com/wp-content/uploads/2025/02/TheHoldingCompanyCalendar-prods-18Z-full-1736821043-v8KB9x.tmp_.jpg
END:VEVENT
BEGIN:VEVENT
DTSTART;TZID=America/Tijuana:20250328T193000
DTEND;TZID=America/Tijuana:20250328T193000
DTSTAMP:20260424T055618
CREATED:20250323T154629Z
LAST-MODIFIED:20250323T154629Z
UID:10000549-1743190200-1743190200@theholdingcompanyob.com
SUMMARY:Spice Pistols + Plenum + Candle Bombs
DESCRIPTION:Fri Mar 28th 2025 | Doors 7:30pm | Tickets $10 \nSpice Pistols + Plenum + Candle Bombs
URL:https://theholdingcompanyob.com/show/spice-pistols-plenum-candle-bombs/
LOCATION:The Holding Company – 1st Floor\, 5046 Newport Ave\, San Diego\, CA\, 92107\, United States
CATEGORIES:Cover/Tribute
ATTACH;FMTTYPE=image/jpeg:https://theholdingcompanyob.com/wp-content/uploads/2025/02/TheHoldingCompanyCalendar-prods-1AH-full-1739412699-t83Zew.tmp_.jpg
END:VEVENT
BEGIN:VEVENT
DTSTART;TZID=America/Tijuana:20250327T193000
DTEND;TZID=America/Tijuana:20250327T193000
DTSTAMP:20260424T055618
CREATED:20250323T154627Z
LAST-MODIFIED:20250325T150229Z
UID:10000501-1743103800-1743103800@theholdingcompanyob.com
SUMMARY:Anders Osborne
DESCRIPTION:Thu Mar 27th 2025 | Doors 7:30pm | Tickets $30-37 \nAnders Osborne + Support TBD \nTickets\nAdvance $30\nDay of Show $37
URL:https://theholdingcompanyob.com/show/anders-osborne/
LOCATION:The Holding Company – 1st Floor\, 5046 Newport Ave\, San Diego\, CA\, 92107\, United States
CATEGORIES:Live Music
ATTACH;FMTTYPE=image/jpeg:https://theholdingcompanyob.com/wp-content/uploads/2025/02/TheHoldingCompanyCalendar-prods-1AY-full-1740683232-vFNmS5.tmp_.jpg
END:VEVENT
BEGIN:VEVENT
DTSTART;TZID=America/Tijuana:20250326T200000
DTEND;TZID=America/Tijuana:20250326T200000
DTSTAMP:20260424T055618
CREATED:20250323T154625Z
LAST-MODIFIED:20250323T154625Z
UID:10000536-1743019200-1743019200@theholdingcompanyob.com
SUMMARY:Karnivale of the Arts Presents: Divina\, Mr.Eos\, Anzio
DESCRIPTION:Wed Mar 26th 2025 | Doors 8:00pm | Tickets $10 \nKarnivale of the Arts Presents: Divina\, Mr.Eos\, Anzio
URL:https://theholdingcompanyob.com/show/karnivale-of-the-arts-presents-divina-mreos-anzio/
LOCATION:The Holding Company – 1st Floor\, 5046 Newport Ave\, San Diego\, CA\, 92107\, United States
CATEGORIES:DJ
ATTACH;FMTTYPE=image/jpeg:https://theholdingcompanyob.com/wp-content/uploads/2025/02/TheHoldingCompany-prods-default-full-1621473174-Sl8BG9.tmp_.jpg
END:VEVENT
BEGIN:VEVENT
DTSTART;TZID=America/Tijuana:20250326T190000
DTEND;TZID=America/Tijuana:20250326T190000
DTSTAMP:20260424T055618
CREATED:20250323T154622Z
LAST-MODIFIED:20250323T154622Z
UID:10000500-1743015600-1743015600@theholdingcompanyob.com
SUMMARY:Trivia 3/26
DESCRIPTION:Wed Mar 26th 2025 | Upstairs at 7pm | No Cover \nPrizes for 1st and 2nd place teams each round!
URL:https://theholdingcompanyob.com/show/trivia-326/
LOCATION:The Holding Company – 2nd Floor\, 5046 Newport Ave\, San Diego\, CA\, 92107\, United States
CATEGORIES:Trivia
ATTACH;FMTTYPE=image/jpeg:https://theholdingcompanyob.com/wp-content/uploads/2025/02/TheHoldingCompanyCalendar-prods-1BC-full-1739415138-i7rVok.tmp_.jpg
END:VEVENT
BEGIN:VEVENT
DTSTART;TZID=America/Tijuana:20250326T160000
DTEND;TZID=America/Tijuana:20250326T160000
DTSTAMP:20260424T055618
CREATED:20250323T154620Z
LAST-MODIFIED:20250327T042839Z
UID:10000478-1743004800-1743004800@theholdingcompanyob.com
SUMMARY:Video Game Night
DESCRIPTION:Wed Mar 26th 2025 | Downstairs at 4pm | No Cover \nVideo Games and Brews\, The Perfect Combo!
URL:https://theholdingcompanyob.com/show/video-game-night/
LOCATION:The Holding Company (free event)\, 5046 Newport Ave\, San Diego\, CA\, 92107\, United States
CATEGORIES:Games
ATTACH;FMTTYPE=image/jpeg:https://theholdingcompanyob.com/wp-content/uploads/2025/02/TheHoldingCompanyCalendar-prods-1B8-full-1739415088-Yab33b.tmp_.jpg
END:VEVENT
BEGIN:VEVENT
DTSTART;TZID=America/Tijuana:20250323T140000
DTEND;TZID=America/Tijuana:20250323T140000
DTSTAMP:20260424T055618
CREATED:20250323T154617Z
LAST-MODIFIED:20250323T154617Z
UID:10000499-1742738400-1742738400@theholdingcompanyob.com
SUMMARY:Jimi Zolo\, Saguarao\, Refuza
DESCRIPTION:Sun Mar 23rd 2025 | Doors 2:00pm | Tickets $8-12 \nSpar Customs Presents: Jimi Zolo\, Saguarao\, Refuza \nTickets\nAdvance $8\nAt the Door $12
URL:https://theholdingcompanyob.com/show/jimi-zolo-saguarao-refuza/
LOCATION:The Holding Company – 1st Floor\, 5046 Newport Ave\, San Diego\, CA\, 92107\, United States
CATEGORIES:Live Music
ATTACH;FMTTYPE=image/jpeg:https://theholdingcompanyob.com/wp-content/uploads/2025/02/TheHoldingCompanyCalendar-prods-19V-full-1736382679-SQUyQQ.tmp_.jpg
END:VEVENT
BEGIN:VEVENT
DTSTART;TZID=America/Tijuana:20250322T210000
DTEND;TZID=America/Tijuana:20250322T210000
DTSTAMP:20260424T055618
CREATED:20250323T034624Z
LAST-MODIFIED:20250323T034624Z
UID:10000392-1742677200-1742677200@theholdingcompanyob.com
SUMMARY:DJ MPTHREE
DESCRIPTION:Sat Mar 22nd 2025 | Upstairs at 9pm | No cover before 9pm
URL:https://theholdingcompanyob.com/show/dj-mpthree/
LOCATION:The Holding Company – 2nd Floor\, 5046 Newport Ave\, San Diego\, CA\, 92107\, United States
CATEGORIES:DJ
ATTACH;FMTTYPE=image/jpeg:https://theholdingcompanyob.com/wp-content/uploads/2025/02/TheHoldingCompany-prods-default-full-1621473174-Sl8BG9.tmp_.jpg
END:VEVENT
BEGIN:VEVENT
DTSTART;TZID=America/Tijuana:20250322T183000
DTEND;TZID=America/Tijuana:20250322T183000
DTSTAMP:20260424T055618
CREATED:20250322T154747Z
LAST-MODIFIED:20250322T154747Z
UID:10000498-1742668200-1742668200@theholdingcompanyob.com
SUMMARY:Slabratory & Punk Rock Rodeo Presents: Guttermouth\, Agent 51 + MORE
DESCRIPTION:Sat Mar 22nd 2025 | Doors 6:30pm | Tickets $20-50 \nGuttermouth\nAgent 51\nAngry Samoans\nWar Fever\nBig Attitude \nPrices:\nTier 1 $25 (First 100 tix)\nTier 2 $30 (Remaining Tix)\nVIP tix $50 (Includes ticket\, event tshirt and poster)
URL:https://theholdingcompanyob.com/show/slabratory-punk-rock-rodeo-presents-guttermouth-agent-51-more/
LOCATION:The Holding Company – 1st Floor\, 5046 Newport Ave\, San Diego\, CA\, 92107\, United States
CATEGORIES:Punk
ATTACH;FMTTYPE=image/jpeg:https://theholdingcompanyob.com/wp-content/uploads/2025/02/TheHoldingCompanyCalendar-prods-19R-full-1736345613-MWcuhJ.tmp_.jpg
END:VEVENT
BEGIN:VEVENT
DTSTART;TZID=America/Tijuana:20250322T120000
DTEND;TZID=America/Tijuana:20250322T120000
DTSTAMP:20260424T055618
CREATED:20250322T154745Z
LAST-MODIFIED:20250322T154745Z
UID:10000497-1742644800-1742644800@theholdingcompanyob.com
SUMMARY:Punk Rock Rodeo Day Pass
DESCRIPTION:Sat Mar 22nd 2024 | Doors 12:00 pm | Price: $45-55 \nThis day pass gets you into all of the club shows during Punk Rock Rodeo\, as well as the PreParty on 3/21/25 at THC. This will also get you unlimited rides on the mechanical bull (Hodad’s Parking Lot). \nPass Prices:\nTier 1 – $45\nTier 2 – $55
URL:https://theholdingcompanyob.com/show/punk-rock-rodeo-day-pass/
LOCATION:The Holding Company – 1st Floor\, 5046 Newport Ave\, San Diego\, CA\, 92107\, United States
CATEGORIES:Punk
ATTACH;FMTTYPE=image/jpeg:https://theholdingcompanyob.com/wp-content/uploads/2025/02/TheHoldingCompanyCalendar-prods-19K-full-1736201973-9GdvH3.tmp_.jpg
END:VEVENT
BEGIN:VEVENT
DTSTART;TZID=America/Tijuana:20250322T120000
DTEND;TZID=America/Tijuana:20250322T120000
DTSTAMP:20260424T055618
CREATED:20250322T154739Z
LAST-MODIFIED:20250322T154739Z
UID:10000496-1742644800-1742644800@theholdingcompanyob.com
SUMMARY:Hodads & Punk Rock Rodeo Present: Dr Know\, Narcoleptic Youth\, Deadly Dispute\, The Tramplers\, FVNERXL MXRCH\, Euphoric Sun
DESCRIPTION:Sat Mar 22nd 2024 | Doors 12pm | Tickets $20-40 \nHodads & Punk Rock Rodeo Present:\nDr Know\nNarcoleptic Youth\nDeadly Dispute\nThe Tramplers\nFVNERXL MXRCH\nEuphoric Sun \nPrices:\n$20 Advanced | $25 Door\n$40 VIP package (Includes event tshirt & poster)
URL:https://theholdingcompanyob.com/show/hodads-punk-rock-rodeo-present-dr-know-narcoleptic-youth-deadly-dispute-the-tramplers-fvnerxl-mxrch-euphoric-sun/
LOCATION:The Holding Company – 1st Floor\, 5046 Newport Ave\, San Diego\, CA\, 92107\, United States
CATEGORIES:Punk
ATTACH;FMTTYPE=image/jpeg:https://theholdingcompanyob.com/wp-content/uploads/2025/02/TheHoldingCompanyCalendar-prods-19P-full-1736096020-SMkDqw.tmp_.jpg
END:VEVENT
BEGIN:VEVENT
DTSTART;TZID=America/Tijuana:20250321T210000
DTEND;TZID=America/Tijuana:20250321T210000
DTSTAMP:20260424T055618
CREATED:20250322T034606Z
LAST-MODIFIED:20250322T034606Z
UID:10000404-1742590800-1742590800@theholdingcompanyob.com
SUMMARY:DJ Nicky Z
DESCRIPTION:Fri Mar 21st 2025 | Upstairs at 9pm | No cover before 9pm
URL:https://theholdingcompanyob.com/show/dj-nicky-z/
LOCATION:The Holding Company – 2nd Floor\, 5046 Newport Ave\, San Diego\, CA\, 92107\, United States
CATEGORIES:DJ
ATTACH;FMTTYPE=image/jpeg:https://theholdingcompanyob.com/wp-content/uploads/2025/02/TheHoldingCompany-prods-default-full-1621473174-Sl8BG9.tmp_.jpg
END:VEVENT
BEGIN:VEVENT
DTSTART;TZID=America/Tijuana:20250321T173000
DTEND;TZID=America/Tijuana:20250321T173000
DTSTAMP:20260424T055618
CREATED:20250321T174854Z
LAST-MODIFIED:20250321T174854Z
UID:10000495-1742578200-1742578200@theholdingcompanyob.com
SUMMARY:Slabratory & 7 Siblings Hot Sauce Present: Punk Rock Rodeo PRE-PARTY! Friday
DESCRIPTION:Fri March 21st 2025 | Doors 5:30pm Show 6pm | Tickets Adv $15 Door $20 \nChaser\nUrethane (feat legendary skateboarder Steve Caballero)\nJon Cougar Concentration Camp\nTiltwheel\nBig Attitude\nBeta7\nReckless Disregard \nTickets:\n$15 in advance | $20 at the door | + Fees
URL:https://theholdingcompanyob.com/show/slabratory-7-siblings-hot-sauce-present-punk-rock-rodeo-pre-party-friday/
LOCATION:The Holding Company – 1st Floor\, 5046 Newport Ave\, San Diego\, CA\, 92107\, United States
CATEGORIES:Punk
ATTACH;FMTTYPE=image/jpeg:https://theholdingcompanyob.com/wp-content/uploads/2025/02/TheHoldingCompanyCalendar-prods-19O-full-1736038355-7MYmN9.tmp_.jpg
END:VEVENT
BEGIN:VEVENT
DTSTART;TZID=America/Tijuana:20250320T193000
DTEND;TZID=America/Tijuana:20250320T193000
DTSTAMP:20260424T055618
CREATED:20250311T200601Z
LAST-MODIFIED:20250311T200601Z
UID:10000531-1742499000-1742499000@theholdingcompanyob.com
SUMMARY:EL3V8: Crystiano Funk\, Pro-K\, Hawk Rising\, Jaemus\, DJ Maleny
DESCRIPTION:Thu Mar 20th 2025 | Doors 8:30pm | Tickets $0-10 \nEL3V8: Crystiano Funk\, Pro-K\, Hawk Rising\, Jaemus\, DJ Maleny \nTickets\nAll Tickets $10\nLadies Free before 10pm! (Tickets available at the Door)
URL:https://theholdingcompanyob.com/show/el3v8-crystiano-funk-pro-k-hawk-rising-jaemus-dj-maleny/
LOCATION:The Holding Company – 1st Floor\, 5046 Newport Ave\, San Diego\, CA\, 92107\, United States
CATEGORIES:DJ
ATTACH;FMTTYPE=image/jpeg:https://theholdingcompanyob.com/wp-content/uploads/2025/02/TheHoldingCompanyCalendar-prods-1BM-full-1740606757-IBTb0g.tmp_.jpg
END:VEVENT
BEGIN:VEVENT
DTSTART;TZID=America/Tijuana:20250319T180000
DTEND;TZID=America/Tijuana:20250319T180000
DTSTAMP:20260424T055618
CREATED:20250311T200558Z
LAST-MODIFIED:20250311T200558Z
UID:10000494-1742407200-1742407200@theholdingcompanyob.com
SUMMARY:Trivia 3/19
DESCRIPTION:Wed Mar 19th 2025 | Upstairs at 7pm | No Cover \nPrizes for 1st and 2nd place teams each round!
URL:https://theholdingcompanyob.com/show/trivia-319/
LOCATION:The Holding Company – 2nd Floor\, 5046 Newport Ave\, San Diego\, CA\, 92107\, United States
CATEGORIES:Trivia
ATTACH;FMTTYPE=image/jpeg:https://theholdingcompanyob.com/wp-content/uploads/2025/02/TheHoldingCompanyCalendar-prods-1BB-full-1739415009-3yFunn.tmp_.jpg
END:VEVENT
BEGIN:VEVENT
DTSTART;TZID=America/Tijuana:20250316T113000
DTEND;TZID=America/Tijuana:20250316T113000
DTSTAMP:20260424T055618
CREATED:20250311T200552Z
LAST-MODIFIED:20250311T200552Z
UID:10000535-1742124600-1742124600@theholdingcompanyob.com
SUMMARY:St. Paddy's Pre-Party
DESCRIPTION:Sun Mar 16th 2025 | Doors 12:30pm | Tickets $10 \nw/ Pat Shanley Band\, Misery Loves Company\, WolfRider & more!
URL:https://theholdingcompanyob.com/show/st-paddys-pre-party/
LOCATION:The Holding Company – 1st Floor\, 5046 Newport Ave\, San Diego\, CA\, 92107\, United States
CATEGORIES:Live Music
ATTACH;FMTTYPE=image/jpeg:https://theholdingcompanyob.com/wp-content/uploads/2025/03/TheHoldingCompanyCalendar-prods-1BX-full-1741293947-e35wIR.tmp_.jpg
END:VEVENT
BEGIN:VEVENT
DTSTART;TZID=America/Tijuana:20250315T200000
DTEND;TZID=America/Tijuana:20250315T200000
DTSTAMP:20260424T055618
CREATED:20250311T200549Z
LAST-MODIFIED:20250311T200549Z
UID:10000400-1742068800-1742068800@theholdingcompanyob.com
SUMMARY:DJ Ms Mo
DESCRIPTION:Sat mar 15th 2025 | Upstairs at 9pm | No Cover before 9pm
URL:https://theholdingcompanyob.com/show/dj-ms-mo/
LOCATION:The Holding Company – 2nd Floor\, 5046 Newport Ave\, San Diego\, CA\, 92107\, United States
CATEGORIES:DJ
ATTACH;FMTTYPE=image/jpeg:https://theholdingcompanyob.com/wp-content/uploads/2025/03/TheHoldingCompanyCalendar-prods-1BS-full-1741119986-cDzmZ5.tmp_.jpg
END:VEVENT
BEGIN:VEVENT
DTSTART;TZID=America/Tijuana:20250315T183000
DTEND;TZID=America/Tijuana:20250315T183000
DTSTAMP:20260424T055618
CREATED:20250311T200546Z
LAST-MODIFIED:20250311T200546Z
UID:10000493-1742063400-1742063400@theholdingcompanyob.com
SUMMARY:STRETCHER\, Contortion\, Cascade Effect\, Fraxures\, Splitter
DESCRIPTION:Sat Mar 15th 2025 | Doors 7:30pm | Tickets $20-25 \nSTRETCHER\, Cascade Effect\, Fraxures\, Contortion\, Splitter \nTickets\nAdvance Online $20 (no longer available)\nWeek of Show $25
URL:https://theholdingcompanyob.com/show/stretcher-contortion-cascade-effect-fraxures-splitter/
LOCATION:The Holding Company – 1st Floor\, 5046 Newport Ave\, San Diego\, CA\, 92107\, United States
CATEGORIES:Rock
ATTACH;FMTTYPE=image/jpeg:https://theholdingcompanyob.com/wp-content/uploads/2025/02/TheHoldingCompanyCalendar-prods-1AN-full-1738376668-kzu4jN.tmp_.jpg
END:VEVENT
BEGIN:VEVENT
DTSTART;TZID=America/Tijuana:20250314T200000
DTEND;TZID=America/Tijuana:20250314T200000
DTSTAMP:20260424T055618
CREATED:20250311T200543Z
LAST-MODIFIED:20250311T200543Z
UID:10000399-1741982400-1741982400@theholdingcompanyob.com
SUMMARY:DJ Byrd
DESCRIPTION:Fri Mar 14th 2025 | Upstairs at 9pm | No Cover before 9pm
URL:https://theholdingcompanyob.com/show/dj-byrd/
LOCATION:The Holding Company – 2nd Floor\, 5046 Newport Ave\, San Diego\, CA\, 92107\, United States
CATEGORIES:DJ
ATTACH;FMTTYPE=image/jpeg:https://theholdingcompanyob.com/wp-content/uploads/2025/03/TheHoldingCompanyCalendar-prods-1BR-full-1741119880-mCYKDY.tmp_.jpg
END:VEVENT
BEGIN:VEVENT
DTSTART;TZID=America/Tijuana:20250314T183000
DTEND;TZID=America/Tijuana:20250314T183000
DTSTAMP:20260424T055618
CREATED:20250311T200540Z
LAST-MODIFIED:20250311T200540Z
UID:10000492-1741977000-1741977000@theholdingcompanyob.com
SUMMARY:Three Legged Dog
DESCRIPTION:Fri Mar 14th 2025 | Doors 7:30pm | Tickets $10-15 \nw/ Bedsweater\, In Carnations\, DJ ETA \nTickets\nAdvance $10\nDay of Show $15
URL:https://theholdingcompanyob.com/show/three-legged-dog/
LOCATION:The Holding Company – 1st Floor\, 5046 Newport Ave\, San Diego\, CA\, 92107\, United States
CATEGORIES:Indie
ATTACH;FMTTYPE=image/jpeg:https://theholdingcompanyob.com/wp-content/uploads/2025/02/TheHoldingCompanyCalendar-prods-1AX-full-1739412928-I58ZaL.tmp_.jpg
END:VEVENT
BEGIN:VEVENT
DTSTART;TZID=America/Tijuana:20250313T183000
DTEND;TZID=America/Tijuana:20250313T183000
DTSTAMP:20260424T055618
CREATED:20250311T200537Z
LAST-MODIFIED:20250311T200537Z
UID:10000540-1741890600-1741890600@theholdingcompanyob.com
SUMMARY:Letchen Grey (FREE SHOW) w/ Swinging Johnny
DESCRIPTION:Thu Mar 13th 2025 | Doors 7:30pm | Tickets Free \nLetchen Grey (FREE SHOW)\nw/ Swinging Johnny
URL:https://theholdingcompanyob.com/show/letchen-grey-free-show-w-swinging-johnny/
LOCATION:The Holding Company – 1st Floor\, 5046 Newport Ave\, San Diego\, CA\, 92107\, United States
CATEGORIES:Live Music
ATTACH;FMTTYPE=image/jpeg:https://theholdingcompanyob.com/wp-content/uploads/2025/03/TheHoldingCompanyCalendar-prods-1BW-full-1741221707-DsPQ6Y.tmp_.jpg
END:VEVENT
BEGIN:VEVENT
DTSTART;TZID=America/Tijuana:20250313T113000
DTEND;TZID=America/Tijuana:20250313T113000
DTSTAMP:20260424T055618
CREATED:20250309T145009Z
LAST-MODIFIED:20250309T145009Z
UID:10000534-1741865400-1741865400@theholdingcompanyob.com
SUMMARY:Letchen Grey (FREE SHOW)
DESCRIPTION:Thu Mar 13th 2025 | Doors 7:30pm | Tickets Free \nLetchen Grey (FREE SHOW) \nGet Tickets
URL:https://theholdingcompanyob.com/show/letchen-grey-free-show/
LOCATION:The Holding Company – 1st Floor\, 5046 Newport Ave\, San Diego\, CA\, 92107\, United States
CATEGORIES:Live Music
ATTACH;FMTTYPE=image/jpeg:https://theholdingcompanyob.com/wp-content/uploads/2025/03/TheHoldingCompanyCalendar-prods-1BW-full-1741221707-DsPQ6Y.tmp_.jpg
END:VEVENT
BEGIN:VEVENT
DTSTART;TZID=America/Tijuana:20250312T193000
DTEND;TZID=America/Tijuana:20250312T193000
DTSTAMP:20260424T055618
CREATED:20250311T200532Z
LAST-MODIFIED:20250311T200532Z
UID:10000533-1741807800-1741807800@theholdingcompanyob.com
SUMMARY:Erika Jane Presents: Welcome & London Nukumori Sadyouth Anasi b2e Bjoyce Seth Parker
DESCRIPTION:Wed Mar 12th 2025 | Doors 8:30pm | Tickets $5 \nErika Jane Presents: Welcome & London Nukumori Sadyouth Anasi b2e Bjoyce Seth Parker
URL:https://theholdingcompanyob.com/show/erika-jane-presents-welcome-london-nukumori-sadyouth-anasi-b2e-bjoyce-seth-parker/
LOCATION:The Holding Company – 1st Floor\, 5046 Newport Ave\, San Diego\, CA\, 92107\, United States
CATEGORIES:DJ
ATTACH;FMTTYPE=image/jpeg:https://theholdingcompanyob.com/wp-content/uploads/2025/03/TheHoldingCompanyCalendar-prods-1BY-full-1741223421-aIL8L3.tmp_.jpg
END:VEVENT
BEGIN:VEVENT
DTSTART;TZID=America/Tijuana:20250312T180000
DTEND;TZID=America/Tijuana:20250312T180000
DTSTAMP:20260424T055618
CREATED:20250311T200528Z
LAST-MODIFIED:20250311T200528Z
UID:10000491-1741802400-1741802400@theholdingcompanyob.com
SUMMARY:Trivia 3/12
DESCRIPTION:Wed Mar 12th 2025 | Upstairs at 7pm | No Cover \nPrizes for 1st and second place teams each round!
URL:https://theholdingcompanyob.com/show/trivia-312/
LOCATION:The Holding Company – 2nd Floor\, 5046 Newport Ave\, San Diego\, CA\, 92107\, United States
CATEGORIES:Trivia
ATTACH;FMTTYPE=image/jpeg:https://theholdingcompanyob.com/wp-content/uploads/2025/02/TheHoldingCompanyCalendar-prods-1BA-full-1739414921-ONDLvo.tmp_.jpg
END:VEVENT
BEGIN:VEVENT
DTSTART;TZID=America/Tijuana:20250308T210000
DTEND;TZID=America/Tijuana:20250308T210000
DTSTAMP:20260424T055618
CREATED:20250308T013855Z
LAST-MODIFIED:20250308T013855Z
UID:10000380-1741467600-1741467600@theholdingcompanyob.com
SUMMARY:DJ K Reed
DESCRIPTION:Sat Mar 8th 2025 | Upstairs at 9pm | No Cover before 9pm \nGet Tickets
URL:https://theholdingcompanyob.com/show/dj-k-reed/
LOCATION:The Holding Company – 2nd Floor\, 5046 Newport Ave\, San Diego\, CA\, 92107\, United States
CATEGORIES:DJ
ATTACH;FMTTYPE=image/jpeg:https://theholdingcompanyob.com/wp-content/uploads/2025/02/TheHoldingCompany-prods-default-full-1621473174-Sl8BG9.tmp_.jpg
END:VEVENT
END:VCALENDAR